BEGIN:VCALENDAR
VERSION:2.0
PRODID:-//pretix//pretix.eu//
BEGIN:VTIMEZONE
TZID:Europe/Berlin
BEGIN:STANDARD
DTSTART:20001029T040000
RRULE:FREQ=YEARLY;BYDAY=-1SU;BYMONTH=10
TZNAME:CET
TZOFFSETFROM:+0200
TZOFFSETTO:+0100
END:STANDARD
BEGIN:DAYLIGHT
DTSTART:20000326T030000
RRULE:FREQ=YEARLY;BYDAY=-1SU;BYMONTH=3
TZNAME:CEST
TZOFFSETFROM:+0100
TZOFFSETTO:+0200
END:DAYLIGHT
END:VTIMEZONE
BEGIN:VEVENT
UID:pretix-ritcsschoolofarts-ohbreadandgames-3-0@pretix.eu
DTSTART;TZID=Europe/Berlin:20230216T130000
DTEND;TZID=Europe/Berlin:20230216T140000
DESCRIPTION:Tickets: https://pretix.eu/ritcsschoolofarts/ohbreadandgames-3/
 \nOrganizer: RITCS School of Arts
DTSTAMP:20260420T123454Z
LOCATION:PIANOFABRIEK\, exhibiton hall/ tentoonstellingsruimte. Fortstraat 
 35\, Sint- Gillis.
SUMMARY:Oh bread and games! – a concept workshop with a light lunch. Sara
  Oklobdzija
END:VEVENT
END:VCALENDAR
