BEGIN:VCALENDAR
VERSION:2.0
PRODID:-//pretix//pretix.eu//
BEGIN:VTIMEZONE
TZID:Europe/Berlin
BEGIN:STANDARD
DTSTART:20001029T040000
RRULE:FREQ=YEARLY;BYDAY=-1SU;BYMONTH=10
TZNAME:CET
TZOFFSETFROM:+0200
TZOFFSETTO:+0100
END:STANDARD
BEGIN:DAYLIGHT
DTSTART:20000326T030000
RRULE:FREQ=YEARLY;BYDAY=-1SU;BYMONTH=3
TZNAME:CEST
TZOFFSETFROM:+0100
TZOFFSETTO:+0200
END:DAYLIGHT
END:VTIMEZONE
BEGIN:VEVENT
UID:pretix-ritcsschoolofarts-piefpoefpaf-0@pretix.eu
DTSTART;TZID=Europe/Berlin:20230223T190000
DTEND;TZID=Europe/Berlin:20230223T200000
DESCRIPTION:Tickets: https://pretix.eu/ritcsschoolofarts/piefpoefpaf/\nOrga
 nisator: RITCS School of Arts
DTSTAMP:20260420T052214Z
LOCATION:CINEMA RITCS\, Antoine Dansaertstraat 70\, 1000 Brussel
SUMMARY:De @vonden: Karel Vanhaesebrouck\, Pief poef paf! Van cowboy en ind
 iaan: immersie en historische ervaring in videogames
END:VEVENT
END:VCALENDAR
