BEGIN:VCALENDAR
VERSION:2.0
PRODID:-//pretix//pretix.eu//
BEGIN:VTIMEZONE
TZID:Europe/Berlin
BEGIN:STANDARD
DTSTART:20001029T040000
RRULE:FREQ=YEARLY;BYDAY=-1SU;BYMONTH=10
TZNAME:CET
TZOFFSETFROM:+0200
TZOFFSETTO:+0100
END:STANDARD
BEGIN:DAYLIGHT
DTSTART:20000326T030000
RRULE:FREQ=YEARLY;BYDAY=-1SU;BYMONTH=3
TZNAME:CEST
TZOFFSETFROM:+0100
TZOFFSETTO:+0200
END:DAYLIGHT
END:VTIMEZONE
BEGIN:VEVENT
UID:pretix-ritcsschoolofarts-sexdesirecinema-0@pretix.eu
DTSTART;TZID=Europe/Berlin:20230214T100000
DTEND;TZID=Europe/Berlin:20230214T110000
DESCRIPTION:Tickets: https://pretix.eu/ritcsschoolofarts/sexdesirecinema/\n
 Organizer: RITCS School of Arts
DTSTAMP:20260420T053350Z
LOCATION:RITCS\, A. Dansaertstraat 70\, 1000 Brussel. Meeting Room/ Vergade
 rzaal
SUMMARY:Sex\, desire and cinema: Reading together\, learning together. Char
 lotte De Cort & Shauni De Gussem Seks\, verlangen en cinema: Samen lezen\,
  samen kennis vergaren . Charlotte De Cort & Shauni De Gussem
END:VEVENT
END:VCALENDAR
