BEGIN:VCALENDAR
VERSION:2.0
PRODID:-//pretix//pretix.eu//
BEGIN:VTIMEZONE
TZID:Europe/Berlin
BEGIN:STANDARD
DTSTART:20001029T040000
RRULE:FREQ=YEARLY;BYDAY=-1SU;BYMONTH=10
TZNAME:CET
TZOFFSETFROM:+0200
TZOFFSETTO:+0100
END:STANDARD
BEGIN:DAYLIGHT
DTSTART:20000326T030000
RRULE:FREQ=YEARLY;BYDAY=-1SU;BYMONTH=3
TZNAME:CEST
TZOFFSETFROM:+0100
TZOFFSETTO:+0200
END:DAYLIGHT
END:VTIMEZONE
BEGIN:VEVENT
UID:pretix-ritcsschoolofarts-shottakeaction-0@pretix.eu
DTSTART;TZID=Europe/Berlin:20230214T140000
DTEND;TZID=Europe/Berlin:20230214T150000
DESCRIPTION:Tickets: https://pretix.eu/ritcsschoolofarts/shottakeaction/\nO
 rganizer: RITCS School of Arts
DTSTAMP:20260420T123459Z
LOCATION:RITCS\, A. Dansaertstraat 70\, 1000 Brussel. Luister-en visiecel
SUMMARY:SHOT 3\, TAKE 2\, ACTION! Retake in documentary films. Lecture by K
 inshuk Surjan SHOT 3\, TAKE 2\, ACTIE! Retake in documentaire films. Lezin
 g door Kinshuk Surjan
END:VEVENT
END:VCALENDAR
