BEGIN:VCALENDAR
VERSION:2.0
PRODID:-//pretix//pretix.eu//
BEGIN:VTIMEZONE
TZID:Europe/Berlin
BEGIN:STANDARD
DTSTART:20001029T040000
RRULE:FREQ=YEARLY;BYDAY=-1SU;BYMONTH=10
TZNAME:CET
TZOFFSETFROM:+0200
TZOFFSETTO:+0100
END:STANDARD
BEGIN:DAYLIGHT
DTSTART:20000326T030000
RRULE:FREQ=YEARLY;BYDAY=-1SU;BYMONTH=3
TZNAME:CEST
TZOFFSETFROM:+0100
TZOFFSETTO:+0200
END:DAYLIGHT
END:VTIMEZONE
BEGIN:VEVENT
UID:pretix-ritcsschoolofarts-soisbelle-0@pretix.eu
DTSTART;TZID=Europe/Berlin:20230510T093000
DTEND;TZID=Europe/Berlin:20230510T103000
DESCRIPTION:Tickets: https://pretix.eu/ritcsschoolofarts/soisbelle/\nOrgani
 zer: RITCS School of Arts
DTSTAMP:20260420T052225Z
LOCATION:CINEMA RITCS\, A. Dansaertstraat 70\, 1000 Brussel.
SUMMARY:Sois belle et tais-toi: studiedag over vrouwen(rollen) in audiovisu
 ele media Met Sofie Van Bauwel\, Maaike Neuville\, Carly Wijs\, Ruth Mella
 erts en Ernest Mathijs
END:VEVENT
END:VCALENDAR
