BEGIN:VCALENDAR
VERSION:2.0
PRODID:-//pretix//pretix.eu//
BEGIN:VTIMEZONE
TZID:Europe/Berlin
BEGIN:STANDARD
DTSTART:20001029T040000
RRULE:FREQ=YEARLY;BYDAY=-1SU;BYMONTH=10
TZNAME:CET
TZOFFSETFROM:+0200
TZOFFSETTO:+0100
END:STANDARD
BEGIN:DAYLIGHT
DTSTART:20000326T030000
RRULE:FREQ=YEARLY;BYDAY=-1SU;BYMONTH=3
TZNAME:CEST
TZOFFSETFROM:+0100
TZOFFSETTO:+0200
END:DAYLIGHT
END:VTIMEZONE
BEGIN:VEVENT
UID:pretix-ritcsschoolofarts-storiesfortheend-0@pretix.eu
DTSTART;TZID=Europe/Berlin:20230509T193000
DTEND;TZID=Europe/Berlin:20230509T203000
DESCRIPTION:Tickets: https://pretix.eu/ritcsschoolofarts/storiesfortheend/\
 nOrganizer: RITCS School of Arts
DTSTAMP:20260420T052213Z
LOCATION:CINEMA RITCS\, A. Dansaertstraat 70\, 1000 Brussel
SUMMARY:Verhalen voor het einde van de wereld: narratieve strategieën voor
  het Antropoceen - Lieven De Cauter & (ex)studenten. Gevolgd door een scre
 ening van La Jetée door Chris Marker
END:VEVENT
END:VCALENDAR
