BEGIN:VCALENDAR
VERSION:2.0
PRODID:-//pretix//pretix.eu//
BEGIN:VTIMEZONE
TZID:Europe/Berlin
BEGIN:STANDARD
DTSTART:20001029T040000
RRULE:FREQ=YEARLY;BYDAY=-1SU;BYMONTH=10
TZNAME:CET
TZOFFSETFROM:+0200
TZOFFSETTO:+0100
END:STANDARD
BEGIN:DAYLIGHT
DTSTART:20000326T030000
RRULE:FREQ=YEARLY;BYDAY=-1SU;BYMONTH=3
TZNAME:CEST
TZOFFSETFROM:+0100
TZOFFSETTO:+0200
END:DAYLIGHT
END:VTIMEZONE
BEGIN:VEVENT
UID:pretix-rockambach-rabMKII-0@pretix.eu
DTSTART;TZID=Europe/Berlin:20250911T000000
DTEND;TZID=Europe/Berlin:20250913T235959
DESCRIPTION:Tickets: https://pretix.eu/rockambach/rabMKII/\nVeranstalter: R
 ock am Bach
DTSTAMP:20260422T162347Z
LOCATION:Dietenbacherstraße\, 79199 Kirchzarten
SUMMARY:Rock am Bach 2025
END:VEVENT
END:VCALENDAR
