BEGIN:VCALENDAR
VERSION:2.0
PRODID:-//pretix//pretix.eu//
BEGIN:VTIMEZONE
TZID:Europe/Berlin
BEGIN:STANDARD
DTSTART:20001029T040000
RRULE:FREQ=YEARLY;BYDAY=-1SU;BYMONTH=10
TZNAME:CET
TZOFFSETFROM:+0200
TZOFFSETTO:+0100
END:STANDARD
BEGIN:DAYLIGHT
DTSTART:20000326T030000
RRULE:FREQ=YEARLY;BYDAY=-1SU;BYMONTH=3
TZNAME:CEST
TZOFFSETFROM:+0100
TZOFFSETTO:+0200
END:DAYLIGHT
END:VTIMEZONE
BEGIN:VEVENT
UID:pretix-rockbuerohaltern-JuKuNa26-4916608@pretix.eu
DTSTART;TZID=Europe/Berlin:20260425T163000
DTEND;TZID=Europe/Berlin:20260425T230000
DESCRIPTION:Tickets: https://pretix.eu/rockbuerohaltern/JuKuNa26/4916608/\n
 Einlass: 25.04.2026 16:00\nVeranstalter: Rockbüro Haltern e.V.
DTSTAMP:20260424T120241Z
LOCATION:Trigon\, Weseler Str. 131\, 45721 Haltern am See
SUMMARY:Jugendkulturnacht 2026 Konzert
END:VEVENT
END:VCALENDAR
