BEGIN:VCALENDAR
VERSION:2.0
PRODID:-//pretix//pretix.eu//
BEGIN:VTIMEZONE
TZID:Europe/Berlin
BEGIN:STANDARD
DTSTART:20001029T040000
RRULE:FREQ=YEARLY;BYDAY=-1SU;BYMONTH=10
TZNAME:CET
TZOFFSETFROM:+0200
TZOFFSETTO:+0100
END:STANDARD
BEGIN:DAYLIGHT
DTSTART:20000326T030000
RRULE:FREQ=YEARLY;BYDAY=-1SU;BYMONTH=3
TZNAME:CEST
TZOFFSETFROM:+0100
TZOFFSETTO:+0200
END:DAYLIGHT
END:VTIMEZONE
BEGIN:VEVENT
UID:pretix-rockindenmai2026-stammtischwilli-0@pretix.eu
DTSTART;TZID=Europe/Berlin:20260430T210000
DTEND;TZID=Europe/Berlin:20260501T010000
DESCRIPTION:Tickets: https://pretix.eu/rockindenmai2026/stammtischwilli/\nE
 inlass: 30.04.2026 19:30\nVeranstalter: Stammtisch Willi
DTSTAMP:20260419T165956Z
LOCATION:Aartalhalle\, 65558 Flacht
SUMMARY:Rock in den Mai 2026 - 10 Jahre Stammtisch Willi
END:VEVENT
END:VCALENDAR
