BEGIN:VCALENDAR
VERSION:2.0
PRODID:-//pretix//pretix.eu//
BEGIN:VTIMEZONE
TZID:Europe/Berlin
BEGIN:STANDARD
DTSTART:20001029T040000
RRULE:FREQ=YEARLY;BYDAY=-1SU;BYMONTH=10
TZNAME:CET
TZOFFSETFROM:+0200
TZOFFSETTO:+0100
END:STANDARD
BEGIN:DAYLIGHT
DTSTART:20000326T030000
RRULE:FREQ=YEARLY;BYDAY=-1SU;BYMONTH=3
TZNAME:CEST
TZOFFSETFROM:+0100
TZOFFSETTO:+0200
END:DAYLIGHT
END:VTIMEZONE
BEGIN:VEVENT
UID:pretix-rsr-apocalypse-0@pretix.eu
DTSTART;TZID=Europe/Berlin:20241031T220000
DTEND;TZID=Europe/Berlin:20241101T060000
DESCRIPTION:Tickets: https://pretix.eu/rsr/apocalypse/\nEinlass: 31.10.2024
  22:00\nVeranstalter: Ravestreamradio GmbH
DTSTAMP:20260424T085718Z
LOCATION:Blackbox | Fat Cat [ehem. Gasteig]\, München\, Deutschland\, S - 
 Rosenheimer Platz
SUMMARY:Apocalypse
END:VEVENT
END:VCALENDAR
