BEGIN:VCALENDAR
VERSION:2.0
PRODID:-//pretix//pretix.eu//
BEGIN:VTIMEZONE
TZID:Europe/Berlin
BEGIN:STANDARD
DTSTART:20001029T040000
RRULE:FREQ=YEARLY;BYDAY=-1SU;BYMONTH=10
TZNAME:CET
TZOFFSETFROM:+0200
TZOFFSETTO:+0100
END:STANDARD
BEGIN:DAYLIGHT
DTSTART:20000326T030000
RRULE:FREQ=YEARLY;BYDAY=-1SU;BYMONTH=3
TZNAME:CEST
TZOFFSETFROM:+0100
TZOFFSETTO:+0200
END:DAYLIGHT
END:VTIMEZONE
BEGIN:VEVENT
UID:pretix-rsr-open-air-0@pretix.eu
DTSTART;TZID=Europe/Berlin:20240920T235959
DTEND;TZID=Europe/Berlin:20240921T005959
DESCRIPTION:Tickets: https://pretix.eu/rsr/open-air/\nEinlass: 20.09.2024 2
 3:30\nVeranstalter: Ravestreamradio GmbH
DTSTAMP:20260425T112013Z
LOCATION:Hubschrauberlandeplatz\, Fröttmaninger Berg\, 80939 Munich
SUMMARY:Masked Madness
END:VEVENT
END:VCALENDAR
