BEGIN:VCALENDAR
VERSION:2.0
PRODID:-//pretix//pretix.eu//
BEGIN:VTIMEZONE
TZID:Europe/Berlin
BEGIN:STANDARD
DTSTART:20001029T040000
RRULE:FREQ=YEARLY;BYDAY=-1SU;BYMONTH=10
TZNAME:CET
TZOFFSETFROM:+0200
TZOFFSETTO:+0100
END:STANDARD
BEGIN:DAYLIGHT
DTSTART:20000326T030000
RRULE:FREQ=YEARLY;BYDAY=-1SU;BYMONTH=3
TZNAME:CEST
TZOFFSETFROM:+0100
TZOFFSETTO:+0200
END:DAYLIGHT
END:VTIMEZONE
BEGIN:VEVENT
UID:pretix-ruf-tafel-4701771@pretix.eu
DTSTART;TZID=Europe/Berlin:20260520T093000
DTEND;TZID=Europe/Berlin:20260520T103000
DESCRIPTION:Tickets: https://pretix.eu/ruf/tafel/4701771/\nVeranstalter: Ro
 senschule Ruf GbR
DTSTAMP:20260420T163401Z
LOCATION:Rosenschule Ruf\, Zum Sauerbrunnen - Außenliegend\, Bad Nauheim O
 rtsteil Steinfurth
SUMMARY:Rosiges Frühstück - 20.5.
END:VEVENT
END:VCALENDAR
