BEGIN:VCALENDAR
VERSION:2.0
PRODID:-//pretix//pretix.eu//
BEGIN:VTIMEZONE
TZID:Europe/Berlin
BEGIN:STANDARD
DTSTART:20001029T040000
RRULE:FREQ=YEARLY;BYDAY=-1SU;BYMONTH=10
TZNAME:CET
TZOFFSETFROM:+0200
TZOFFSETTO:+0100
END:STANDARD
BEGIN:DAYLIGHT
DTSTART:20000326T030000
RRULE:FREQ=YEARLY;BYDAY=-1SU;BYMONTH=3
TZNAME:CEST
TZOFFSETFROM:+0100
TZOFFSETTO:+0200
END:DAYLIGHT
END:VTIMEZONE
BEGIN:VEVENT
UID:pretix-ruf-tafel-4706578@pretix.eu
DTSTART;TZID=Europe/Berlin:20261003T180000
DTEND;TZID=Europe/Berlin:20261003T220000
DESCRIPTION:Tickets: https://pretix.eu/ruf/tafel/4706578/\nEinlass: 03.10.2
 026 17:15\nVeranstalter: Rosenschule Ruf GbR
DTSTAMP:20260420T163356Z
LOCATION:Rosenschule Ruf\, Zum Sauerbrunnen\, Bad Nauheim Ortsteil Steinfur
 th
SUMMARY:Die Rosentafel - Das Menü zur Kunst - 3.10.
END:VEVENT
END:VCALENDAR
