BEGIN:VCALENDAR
VERSION:2.0
PRODID:-//pretix//pretix.eu//
BEGIN:VTIMEZONE
TZID:Europe/Berlin
BEGIN:STANDARD
DTSTART:20001029T040000
RRULE:FREQ=YEARLY;BYDAY=-1SU;BYMONTH=10
TZNAME:CET
TZOFFSETFROM:+0200
TZOFFSETTO:+0100
END:STANDARD
BEGIN:DAYLIGHT
DTSTART:20000326T030000
RRULE:FREQ=YEARLY;BYDAY=-1SU;BYMONTH=3
TZNAME:CEST
TZOFFSETFROM:+0100
TZOFFSETTO:+0200
END:DAYLIGHT
END:VTIMEZONE
BEGIN:VEVENT
UID:pretix-rzznord-fclaz-0@pretix.eu
DTSTART;TZID=Europe/Berlin:20260424T090000
DTEND;TZID=Europe/Berlin:20260424T160000
DESCRIPTION:Tickets: https://pretix.eu/rzznord/fclaz/\nVeranstalter: Region
 ales Zukunftszentrum Nord
DTSTAMP:20260421T180003Z
LOCATION:Handelskammer Bremen - IHK für Bremen und Bremerhaven\, Am Markt 
 13\, 28195 Bremen
SUMMARY:KI.Compliance.Sicherheit -  Orientierung und Umsetzung für kleine 
 und mittlere Unternehmen in Bremen und Bremerhaven
END:VEVENT
END:VCALENDAR
