BEGIN:VCALENDAR
VERSION:2.0
PRODID:-//pretix//pretix.eu//
BEGIN:VTIMEZONE
TZID:Europe/Vienna
BEGIN:STANDARD
DTSTART:20001029T040000
RRULE:FREQ=YEARLY;BYDAY=-1SU;BYMONTH=10
TZNAME:CET
TZOFFSETFROM:+0200
TZOFFSETTO:+0100
END:STANDARD
BEGIN:DAYLIGHT
DTSTART:20000326T030000
RRULE:FREQ=YEARLY;BYDAY=-1SU;BYMONTH=3
TZNAME:CEST
TZOFFSETFROM:+0100
TZOFFSETTO:+0200
END:DAYLIGHT
END:VTIMEZONE
BEGIN:VEVENT
UID:pretix-salsameetups-2026-03-15-0@pretix.eu
DTSTART;TZID=Europe/Vienna:20260315T190000
DTEND;TZID=Europe/Vienna:20260315T203000
DESCRIPTION:Tickets: https://pretix.eu/salsameetups/2026-03-15/\nOrganizer:
  Salsa Meetups
DTSTAMP:20260421T165726Z
LOCATION:Billie Studio\, Capistrangasse 10 (2nd floor)\, Vienna 1060 (U2 Mu
 seumsquarter)
SUMMARY:Salsa/Bachata Dancing with ESN 💃🕺🌟 2nd Edition
END:VEVENT
END:VCALENDAR
