BEGIN:VCALENDAR
VERSION:2.0
PRODID:-//pretix//pretix.eu//
BEGIN:VTIMEZONE
TZID:Europe/Berlin
BEGIN:STANDARD
DTSTART:20001029T040000
RRULE:FREQ=YEARLY;BYDAY=-1SU;BYMONTH=10
TZNAME:CET
TZOFFSETFROM:+0200
TZOFFSETTO:+0100
END:STANDARD
BEGIN:DAYLIGHT
DTSTART:20000326T030000
RRULE:FREQ=YEARLY;BYDAY=-1SU;BYMONTH=3
TZNAME:CEST
TZOFFSETFROM:+0100
TZOFFSETTO:+0200
END:DAYLIGHT
END:VTIMEZONE
BEGIN:VEVENT
UID:pretix-savvy-contemporary-savvy15-0@pretix.eu
DTSTART;TZID=Europe/Berlin:20251101T160000
DTEND;TZID=Europe/Berlin:20251101T170000
DESCRIPTION:Tickets: https://pretix.eu/savvy-contemporary/savvy15/\nOrganiz
 er: SAVVY Contemporary The Laboratory of Form-Ideas
DTSTAMP:20260422T014627Z
LOCATION:SAVVY Contemporary
SUMMARY:SAVVYBRATION :: 15 Years of Becoming
END:VEVENT
END:VCALENDAR
