BEGIN:VCALENDAR
VERSION:2.0
PRODID:-//pretix//pretix.eu//
BEGIN:VTIMEZONE
TZID:Europe/Berlin
BEGIN:STANDARD
DTSTART:20001029T040000
RRULE:FREQ=YEARLY;BYDAY=-1SU;BYMONTH=10
TZNAME:CET
TZOFFSETFROM:+0200
TZOFFSETTO:+0100
END:STANDARD
BEGIN:DAYLIGHT
DTSTART:20000326T030000
RRULE:FREQ=YEARLY;BYDAY=-1SU;BYMONTH=3
TZNAME:CEST
TZOFFSETFROM:+0100
TZOFFSETTO:+0200
END:DAYLIGHT
END:VTIMEZONE
BEGIN:VEVENT
UID:pretix-sba-research-special-sessions-0@pretix.eu
DTSTART;TZID=Europe/Berlin:20210223T090000
DTEND;TZID=Europe/Berlin:20210223T230000
DESCRIPTION:Tickets: https://pretix.eu/sba-research/special-sessions/\nOrga
 nizer: SBA Research
DTSTAMP:20260423T113724Z
LOCATION:Hopin
SUMMARY:sec4dev - Special Sessions
END:VEVENT
END:VCALENDAR
