BEGIN:VCALENDAR
VERSION:2.0
PRODID:-//pretix//pretix.eu//
BEGIN:VTIMEZONE
TZID:Europe/Berlin
BEGIN:STANDARD
DTSTART:20001029T040000
RRULE:FREQ=YEARLY;BYDAY=-1SU;BYMONTH=10
TZNAME:CET
TZOFFSETFROM:+0200
TZOFFSETTO:+0100
END:STANDARD
BEGIN:DAYLIGHT
DTSTART:20000326T030000
RRULE:FREQ=YEARLY;BYDAY=-1SU;BYMONTH=3
TZNAME:CEST
TZOFFSETFROM:+0100
TZOFFSETTO:+0200
END:DAYLIGHT
END:VTIMEZONE
BEGIN:VEVENT
UID:pretix-scd-2025-Ausf-Tage-07-0@pretix.eu
DTSTART;TZID=Europe/Berlin:20260314T060000
DTEND;TZID=Europe/Berlin:20260314T190000
DESCRIPTION:Tickets: https://pretix.eu/scd/2025-Ausf-Tage-07/\nVeranstalter
 : Ski-Club Dingolfing e. V.
DTSTAMP:20260422T045519Z
LOCATION:Leogang - Österreich
SUMMARY:Tagesausfahrt und Jugendausfahrt - Leogang - Saalbach - Fieberbrunn
  - Österreich
END:VEVENT
END:VCALENDAR
