BEGIN:VCALENDAR
VERSION:2.0
PRODID:-//pretix//pretix.eu//
BEGIN:VTIMEZONE
TZID:Europe/Berlin
BEGIN:STANDARD
DTSTART:20001029T040000
RRULE:FREQ=YEARLY;BYDAY=-1SU;BYMONTH=10
TZNAME:CET
TZOFFSETFROM:+0200
TZOFFSETTO:+0100
END:STANDARD
BEGIN:DAYLIGHT
DTSTART:20000326T030000
RRULE:FREQ=YEARLY;BYDAY=-1SU;BYMONTH=3
TZNAME:CEST
TZOFFSETFROM:+0100
TZOFFSETTO:+0200
END:DAYLIGHT
END:VTIMEZONE
BEGIN:VEVENT
UID:pretix-schlachthof-bremen-TB-120626-0@pretix.eu
DTSTART;TZID=Europe/Berlin:20260612T200000
DTEND;TZID=Europe/Berlin:20260612T210000
DESCRIPTION:Tickets: https://pretix.eu/schlachthof-bremen/TB-120626/\nEinla
 ss: 06.06.2026 19:00\nVeranstalter: Kulturzentrum Schlachthof e.V.
DTSTAMP:20260424T211522Z
LOCATION:Kulturzentrum Schlachthof\, Findorffstr. 51\, 28215 Bremen
SUMMARY:Tits and Bits - Die Queere Comedy - Late Night - Show mit Jana Goll
 er und Marlena Schönfeld
END:VEVENT
END:VCALENDAR
