BEGIN:VCALENDAR
VERSION:2.0
PRODID:-//pretix//pretix.eu//
BEGIN:VTIMEZONE
TZID:Europe/Berlin
BEGIN:STANDARD
DTSTART:20001029T040000
RRULE:FREQ=YEARLY;BYDAY=-1SU;BYMONTH=10
TZNAME:CET
TZOFFSETFROM:+0200
TZOFFSETTO:+0100
END:STANDARD
BEGIN:DAYLIGHT
DTSTART:20000326T030000
RRULE:FREQ=YEARLY;BYDAY=-1SU;BYMONTH=3
TZNAME:CEST
TZOFFSETFROM:+0100
TZOFFSETTO:+0200
END:DAYLIGHT
END:VTIMEZONE
BEGIN:VEVENT
UID:pretix-schlachthof-bremen-W06082026-0@pretix.eu
DTSTART;TZID=Europe/Berlin:20260806T200000
DTEND;TZID=Europe/Berlin:20260806T210000
DESCRIPTION:Tickets: https://pretix.eu/schlachthof-bremen/W06082026/\nEinla
 ss: 06.08.2026 19:00\nVeranstalter: Kulturzentrum Schlachthof e.V.
DTSTAMP:20260421T141543Z
LOCATION:Kulturzentrum Schlachthof\, Findorffstr. 51\, 28215 Bremen
SUMMARY:Wolfmother
END:VEVENT
END:VCALENDAR
