BEGIN:VCALENDAR
VERSION:2.0
PRODID:-//pretix//pretix.eu//
BEGIN:VTIMEZONE
TZID:Europe/Berlin
BEGIN:STANDARD
DTSTART:20001029T040000
RRULE:FREQ=YEARLY;BYDAY=-1SU;BYMONTH=10
TZNAME:CET
TZOFFSETFROM:+0200
TZOFFSETTO:+0100
END:STANDARD
BEGIN:DAYLIGHT
DTSTART:20000326T030000
RRULE:FREQ=YEARLY;BYDAY=-1SU;BYMONTH=3
TZNAME:CEST
TZOFFSETFROM:+0100
TZOFFSETTO:+0200
END:DAYLIGHT
END:VTIMEZONE
BEGIN:VEVENT
UID:pretix-schocker.events-schock.verliebt-0@pretix.eu
DTSTART;TZID=Europe/Berlin:20260214T230000
DTEND;TZID=Europe/Berlin:20260215T040000
DESCRIPTION:Tickets: https://pretix.eu/schocker.events/schock.verliebt/\nOr
 ganizer: schocker.events
DTSTAMP:20260419T153047Z
LOCATION:Soho: J7 16\, 68159 Mannheim
SUMMARY:schock.verliebt
END:VEVENT
END:VCALENDAR
