BEGIN:VCALENDAR
VERSION:2.0
PRODID:-//pretix//pretix.eu//
BEGIN:VTIMEZONE
TZID:Europe/Berlin
BEGIN:STANDARD
DTSTART:20001029T040000
RRULE:FREQ=YEARLY;BYDAY=-1SU;BYMONTH=10
TZNAME:CET
TZOFFSETFROM:+0200
TZOFFSETTO:+0100
END:STANDARD
BEGIN:DAYLIGHT
DTSTART:20000326T030000
RRULE:FREQ=YEARLY;BYDAY=-1SU;BYMONTH=3
TZNAME:CEST
TZOFFSETFROM:+0100
TZOFFSETTO:+0200
END:DAYLIGHT
END:VTIMEZONE
BEGIN:VEVENT
UID:pretix-schwarmintelligenz-cvyvx-4856692@pretix.eu
DTSTART;TZID=Europe/Berlin:20260616T193000
DTEND;TZID=Europe/Berlin:20260616T223000
DESCRIPTION:Tickets: https://pretix.eu/schwarmintelligenz/cvyvx/4856692/\nE
 inlass: 16.06.2026 18:00\nVeranstalter: Schwarmintelligenz - Das Quiz
DTSTAMP:20260419T153034Z
LOCATION:GOP Varieté-Theater Bremen\, Am Weser-Terminal 4\, 28217 Bremen
SUMMARY:Juni 2026 | GOP Varieté-Theater\, Bremen
END:VEVENT
END:VCALENDAR
