BEGIN:VCALENDAR
VERSION:2.0
PRODID:-//pretix//pretix.eu//
BEGIN:VTIMEZONE
TZID:Europe/Berlin
BEGIN:STANDARD
DTSTART:20001029T040000
RRULE:FREQ=YEARLY;BYDAY=-1SU;BYMONTH=10
TZNAME:CET
TZOFFSETFROM:+0200
TZOFFSETTO:+0100
END:STANDARD
BEGIN:DAYLIGHT
DTSTART:20000326T030000
RRULE:FREQ=YEARLY;BYDAY=-1SU;BYMONTH=3
TZNAME:CEST
TZOFFSETFROM:+0100
TZOFFSETTO:+0200
END:DAYLIGHT
END:VTIMEZONE
BEGIN:VEVENT
UID:pretix-schwarmintelligenz-mudkt-4927625@pretix.eu
DTSTART;TZID=Europe/Berlin:20261116T190000
DTEND;TZID=Europe/Berlin:20261116T220000
DESCRIPTION:Tickets: https://pretix.eu/schwarmintelligenz/mudkt/4927625/\nE
 inlass: 16.11.2026 18:00\nVeranstalter: Schwarmintelligenz - Das Quiz
DTSTAMP:20260423T094040Z
LOCATION:Hansa-Theatersaal\, Steindamm 17\, 20099 Hamburg
SUMMARY:November 2026 | Hansa-Theatersaal\, Hamburg
END:VEVENT
END:VCALENDAR
