BEGIN:VCALENDAR
VERSION:2.0
PRODID:-//pretix//pretix.eu//
BEGIN:VTIMEZONE
TZID:Europe/Berlin
BEGIN:STANDARD
DTSTART:20001029T040000
RRULE:FREQ=YEARLY;BYDAY=-1SU;BYMONTH=10
TZNAME:CET
TZOFFSETFROM:+0200
TZOFFSETTO:+0100
END:STANDARD
BEGIN:DAYLIGHT
DTSTART:20000326T030000
RRULE:FREQ=YEARLY;BYDAY=-1SU;BYMONTH=3
TZNAME:CEST
TZOFFSETFROM:+0100
TZOFFSETTO:+0200
END:DAYLIGHT
END:VTIMEZONE
BEGIN:VEVENT
UID:pretix-schwarzenbek-tickets-lesungmarschall-0@pretix.eu
DTSTART;TZID=Europe/Berlin:20260227T190000
DTEND;TZID=Europe/Berlin:20260227T200000
DESCRIPTION:Tickets: https://pretix.eu/schwarzenbek-tickets/lesungmarschall
 /\nVeranstalter: Stadt Schwarzenbek
DTSTAMP:20260422T002201Z
LOCATION:Amtsrichterhaus Schwarzenbek\, Körnerplatz 10\, 21493 Schwarzenbe
 k
SUMMARY:Lesung mit Anja Marschall: Hotel Vier Jahreszeiten  - Der Glanz des
  neuen Morgens
END:VEVENT
END:VCALENDAR
