BEGIN:VCALENDAR
VERSION:2.0
PRODID:-//pretix//pretix.eu//
BEGIN:VTIMEZONE
TZID:Europe/Berlin
BEGIN:STANDARD
DTSTART:20001029T040000
RRULE:FREQ=YEARLY;BYDAY=-1SU;BYMONTH=10
TZNAME:CET
TZOFFSETFROM:+0200
TZOFFSETTO:+0100
END:STANDARD
BEGIN:DAYLIGHT
DTSTART:20000326T030000
RRULE:FREQ=YEARLY;BYDAY=-1SU;BYMONTH=3
TZNAME:CEST
TZOFFSETFROM:+0100
TZOFFSETTO:+0200
END:DAYLIGHT
END:VTIMEZONE
BEGIN:VEVENT
UID:pretix-schwarzenbek-tickets-stuehrwoldt-0@pretix.eu
DTSTART;TZID=Europe/Berlin:20260423T190000
DTEND;TZID=Europe/Berlin:20260423T210000
DESCRIPTION:Tickets: https://pretix.eu/schwarzenbek-tickets/stuehrwoldt/\nV
 eranstalter: Stadt Schwarzenbek
DTSTAMP:20260423T115628Z
LOCATION:Stadtbücherei Schwarzenbek\, Ritter-Wulf-Platz 1\, 21493 Schwarze
 nbek
SUMMARY:Lesung mit Matthias Stührwoldt
END:VEVENT
END:VCALENDAR
