BEGIN:VCALENDAR
VERSION:2.0
PRODID:-//pretix//pretix.eu//
BEGIN:VTIMEZONE
TZID:Europe/Berlin
BEGIN:STANDARD
DTSTART:20001029T040000
RRULE:FREQ=YEARLY;BYDAY=-1SU;BYMONTH=10
TZNAME:CET
TZOFFSETFROM:+0200
TZOFFSETTO:+0100
END:STANDARD
BEGIN:DAYLIGHT
DTSTART:20000326T030000
RRULE:FREQ=YEARLY;BYDAY=-1SU;BYMONTH=3
TZNAME:CEST
TZOFFSETFROM:+0100
TZOFFSETTO:+0200
END:DAYLIGHT
END:VTIMEZONE
BEGIN:VEVENT
UID:pretix-schwarzer-reigen-202605-0@pretix.eu
DTSTART;TZID=Europe/Berlin:20260509T220000
DTEND;TZID=Europe/Berlin:20260510T050000
DESCRIPTION:Tickets: https://pretix.eu/schwarzer-reigen/202605/\nEinlass: 0
 9.05.2026 22:00\nVeranstalter: Verein Schwarzer Reigen
DTSTAMP:20260424T072336Z
LOCATION:Ottakringer Brauerei
SUMMARY:Schwarzer Reigen - Der letzte Tanz
END:VEVENT
END:VCALENDAR
