BEGIN:VCALENDAR
VERSION:2.0
PRODID:-//pretix//pretix.eu//
BEGIN:VEVENT
UID:pretix-scl-Grillplatz-4337492@pretix.eu
DTSTART;VALUE=DATE:20250309
DTEND;VALUE=DATE:20250310
DESCRIPTION:Tickets: https://pretix.eu/scl/Grillplatz/4337492/\nVeranstalte
 r: Sportclub Lerchenberg
DTSTAMP:20260419T130308Z
LOCATION:Sportclub auf dem Lerchenberg
SUMMARY:Grillplatz Miete
END:VEVENT
END:VCALENDAR
