BEGIN:VCALENDAR
VERSION:2.0
PRODID:-//pretix//pretix.eu//
BEGIN:VEVENT
UID:pretix-scl-Grillplatz-4337494@pretix.eu
DTSTART;VALUE=DATE:20250316
DTEND;VALUE=DATE:20250317
DESCRIPTION:Tickets: https://pretix.eu/scl/Grillplatz/4337494/\nVeranstalte
 r: Sportclub Lerchenberg
DTSTAMP:20260419T143436Z
LOCATION:Sportclub auf dem Lerchenberg
SUMMARY:Grillplatz Miete
END:VEVENT
END:VCALENDAR
