BEGIN:VCALENDAR
VERSION:2.0
PRODID:-//pretix//pretix.eu//
BEGIN:VEVENT
UID:pretix-scl-Grillplatz-4337731@pretix.eu
DTSTART;VALUE=DATE:20250307
DTEND;VALUE=DATE:20250308
DESCRIPTION:Tickets: https://pretix.eu/scl/Grillplatz/4337731/\nVeranstalte
 r: Sportclub Lerchenberg
DTSTAMP:20260419T173500Z
LOCATION:Sportclub auf dem Lerchenberg
SUMMARY:Grillplatz Miete
END:VEVENT
END:VCALENDAR
