BEGIN:VCALENDAR
VERSION:2.0
PRODID:-//pretix//pretix.eu//
BEGIN:VEVENT
UID:pretix-scoutshellegat-bbq26-0@pretix.eu
DTSTART;VALUE=DATE:20260627
DTEND;VALUE=DATE:20260628
DESCRIPTION:Tickets: https://pretix.eu/scoutshellegat/bbq26/\nToegang: 27-6
 -2026 18:00\nOrganisator: Scouts Hellegat
DTSTAMP:20260423T094044Z
LOCATION:Scoutsterreinen Hellegat
SUMMARY:BBQ Scouts Hellegat 2026
END:VEVENT
END:VCALENDAR
