BEGIN:VCALENDAR
VERSION:2.0
PRODID:-//pretix//pretix.eu//
BEGIN:VTIMEZONE
TZID:Asia/Tokyo
BEGIN:STANDARD
DTSTART:20000101T000000
RRULE:FREQ=YEARLY;BYMONTH=1
TZNAME:JST
TZOFFSETFROM:+0900
TZOFFSETTO:+0900
END:STANDARD
END:VTIMEZONE
BEGIN:VEVENT
UID:pretix-scrumkanazawa-2026-0@pretix.eu
DTSTART;TZID=Asia/Tokyo:20260619T163000
DTEND;TZID=Asia/Tokyo:20260620T170000
DESCRIPTION:チケット: https://pretix.eu/scrumkanazawa/2026/\n主催者:
  Scrum Fest Kanazawa
DTSTAMP:20260421T183042Z
SUMMARY:スクラムフェス金沢2026
END:VEVENT
END:VCALENDAR
