BEGIN:VCALENDAR
VERSION:2.0
PRODID:-//pretix//pretix.eu//
BEGIN:VTIMEZONE
TZID:Asia/Tokyo
BEGIN:STANDARD
DTSTART:20000101T000000
RRULE:FREQ=YEARLY;BYMONTH=1
TZNAME:JST
TZOFFSETFROM:+0900
TZOFFSETTO:+0900
END:STANDARD
END:VTIMEZONE
BEGIN:VEVENT
UID:pretix-scrumosaka-2026-0@pretix.eu
DTSTART;TZID=Asia/Tokyo:20260731T170000
DTEND;TZID=Asia/Tokyo:20260801T170000
DESCRIPTION:チケット: https://pretix.eu/scrumosaka/2026/\n主催者: Sc
 rum Fest Osaka
DTSTAMP:20260424T003321Z
LOCATION:梅田クリスタルホール - 梅田センタービル
SUMMARY:スクラムフェス大阪2026
END:VEVENT
END:VCALENDAR
