BEGIN:VCALENDAR
VERSION:2.0
PRODID:-//pretix//pretix.eu//
BEGIN:VTIMEZONE
TZID:Asia/Tokyo
BEGIN:STANDARD
DTSTART:20000101T000000
RRULE:FREQ=YEARLY;BYMONTH=1
TZNAME:JST
TZOFFSETFROM:+0900
TZOFFSETTO:+0900
END:STANDARD
END:VTIMEZONE
BEGIN:VEVENT
UID:pretix-scrumtokyo-rsgt2026-0@pretix.eu
DTSTART;TZID=Asia/Tokyo:20260107T080000
DTEND;TZID=Asia/Tokyo:20260109T170000
DESCRIPTION:チケット: https://pretix.eu/scrumtokyo/rsgt2026/\n主催者: Scrum Tokyo
DTSTAMP:20260419T191006Z
LOCATION:ベルサール羽田空港
SUMMARY:Regional Scrum Gathering Tokyo 2026
END:VEVENT
END:VCALENDAR
