BEGIN:VCALENDAR
VERSION:2.0
PRODID:-//pretix//pretix.eu//
BEGIN:VTIMEZONE
TZID:Europe/Berlin
BEGIN:STANDARD
DTSTART:20001029T040000
RRULE:FREQ=YEARLY;BYDAY=-1SU;BYMONTH=10
TZNAME:CET
TZOFFSETFROM:+0200
TZOFFSETTO:+0100
END:STANDARD
BEGIN:DAYLIGHT
DTSTART:20000326T030000
RRULE:FREQ=YEARLY;BYDAY=-1SU;BYMONTH=3
TZNAME:CEST
TZOFFSETFROM:+0100
TZOFFSETTO:+0200
END:DAYLIGHT
END:VTIMEZONE
BEGIN:VEVENT
UID:pretix-securitymeetup-bonn-aug-25-0@pretix.eu
DTSTART;TZID=Europe/Berlin:20250821T180000
DTEND;TZID=Europe/Berlin:20250821T210000
DESCRIPTION:Tickets: https://pretix.eu/securitymeetup/bonn-aug-25/\nVeranst
 alter: Security Meetup
DTSTAMP:20260420T152813Z
LOCATION:Bonn
SUMMARY:Security Meetup - Bonn - August 2025
END:VEVENT
END:VCALENDAR
