BEGIN:VCALENDAR
VERSION:2.0
PRODID:-//pretix//pretix.eu//
BEGIN:VTIMEZONE
TZID:America/New_York
BEGIN:STANDARD
DTSTART:20001029T030000
RRULE:FREQ=YEARLY;BYDAY=-1SU;BYMONTH=10;UNTIL=20061029T070000Z
TZNAME:EST
TZOFFSETFROM:-0400
TZOFFSETTO:-0500
END:STANDARD
BEGIN:STANDARD
DTSTART:20071104T030000
RRULE:FREQ=YEARLY;BYDAY=1SU;BYMONTH=11
TZNAME:EST
TZOFFSETFROM:-0400
TZOFFSETTO:-0500
END:STANDARD
BEGIN:DAYLIGHT
DTSTART:20000402T030000
RRULE:FREQ=YEARLY;BYDAY=1SU;BYMONTH=4;UNTIL=20060402T080000Z
TZNAME:EDT
TZOFFSETFROM:-0500
TZOFFSETTO:-0400
END:DAYLIGHT
BEGIN:DAYLIGHT
DTSTART:20070311T030000
RRULE:FREQ=YEARLY;BYDAY=2SU;BYMONTH=3
TZNAME:EDT
TZOFFSETFROM:-0500
TZOFFSETTO:-0400
END:DAYLIGHT
END:VTIMEZONE
BEGIN:VEVENT
UID:pretix-selc22-selc24-0@pretix.eu
DTSTART;TZID=America/New_York:20241115T000000
DTEND;TZID=America/New_York:20241117T235900
DESCRIPTION:Tickets: https://pretix.eu/selc22/selc24/\nOrganizer: The Union
  of Vietnamese Student Associations of the Southeast
DTSTAMP:20260422T160601Z
LOCATION:Orange Springs Retreat Center\, 168 Shalom Camp Trail\,\, Orange S
 prings\, FL 32182
SUMMARY:SELC24: Southeast Leadership Camp 2024
END:VEVENT
END:VCALENDAR
