BEGIN:VCALENDAR
VERSION:2.0
PRODID:-//pretix//pretix.eu//
BEGIN:VTIMEZONE
TZID:Europe/Berlin
BEGIN:STANDARD
DTSTART:20001029T040000
RRULE:FREQ=YEARLY;BYDAY=-1SU;BYMONTH=10
TZNAME:CET
TZOFFSETFROM:+0200
TZOFFSETTO:+0100
END:STANDARD
BEGIN:DAYLIGHT
DTSTART:20000326T030000
RRULE:FREQ=YEARLY;BYDAY=-1SU;BYMONTH=3
TZNAME:CEST
TZOFFSETFROM:+0100
TZOFFSETTO:+0200
END:DAYLIGHT
END:VTIMEZONE
BEGIN:VEVENT
UID:pretix-seniorenberatunghannover-transsein-0@pretix.eu
DTSTART;TZID=Europe/Berlin:20230712T150000
DTEND;TZID=Europe/Berlin:20230714T180000
DESCRIPTION:Tickets: https://pretix.eu/seniorenberatunghannover/transsein/\
 nEinlass: 24.03.2022 00:00\nVeranstalter: Landeshauptstadt Hannover Fachbe
 reich Senioren
DTSTAMP:20260421T035929Z
LOCATION:Online über Zoom. Die Zoom Zugangsdaten erhalten Sie einige Tage 
 vor der Veranstaltung per E-Mail
SUMMARY:Trans*_it. Dialogveranstaltung mit Lesung
END:VEVENT
END:VCALENDAR
