BEGIN:VCALENDAR
VERSION:2.0
PRODID:-//pretix//pretix.eu//
BEGIN:VTIMEZONE
TZID:Europe/Berlin
BEGIN:STANDARD
DTSTART:20001029T040000
RRULE:FREQ=YEARLY;BYDAY=-1SU;BYMONTH=10
TZNAME:CET
TZOFFSETFROM:+0200
TZOFFSETTO:+0100
END:STANDARD
BEGIN:DAYLIGHT
DTSTART:20000326T030000
RRULE:FREQ=YEARLY;BYDAY=-1SU;BYMONTH=3
TZNAME:CEST
TZOFFSETFROM:+0100
TZOFFSETTO:+0200
END:DAYLIGHT
END:VTIMEZONE
BEGIN:VEVENT
UID:pretix-sgevents-hg-butchies-0@pretix.eu
DTSTART;TZID=Europe/Berlin:20220917T200000
DTEND;TZID=Europe/Berlin:20220917T235500
DESCRIPTION:Tickets: https://pretix.eu/sgevents/hg-butchies/\nVeranstalter:
  SG Events & Medien
DTSTAMP:20260421T021443Z
LOCATION:Hofgut Hermannstein\, Burgstraße 9\, 35586 Wetzlar
SUMMARY:Hermannsteiner Herbstgarten: 11 Jahre Sophisticated Butcherfingers 
 - das Jubiläumskonzert
END:VEVENT
END:VCALENDAR
