BEGIN:VCALENDAR
VERSION:2.0
PRODID:-//pretix//pretix.eu//
BEGIN:VTIMEZONE
TZID:Europe/Berlin
BEGIN:STANDARD
DTSTART:20001029T040000
RRULE:FREQ=YEARLY;BYDAY=-1SU;BYMONTH=10
TZNAME:CET
TZOFFSETFROM:+0200
TZOFFSETTO:+0100
END:STANDARD
BEGIN:DAYLIGHT
DTSTART:20000326T030000
RRULE:FREQ=YEARLY;BYDAY=-1SU;BYMONTH=3
TZNAME:CEST
TZOFFSETFROM:+0100
TZOFFSETTO:+0200
END:DAYLIGHT
END:VTIMEZONE
BEGIN:VEVENT
UID:pretix-sidekick-4925-2-0@pretix.eu
DTSTART;TZID=Europe/Berlin:20260507T100000
DTEND;TZID=Europe/Berlin:20260507T233000
DESCRIPTION:Tickets: https://pretix.eu/sidekick/4925-2/\nVeranstalter: Omlo
 r & Rademacher GbR
DTSTAMP:20260422T235328Z
LOCATION:Get-together am 6.5.\, 19:30 bis 22:30 Uhr\, Frauenbad\,\, Berghei
 mer Straße 45\, Heidelberg\, Kongress mit Abendveranstaltung am 7.5.\, 10
  bis 23:30\, Frauenbad\, Bergheimer Straße 45\, Heidelberg
SUMMARY:SideKick by GetränkeNews!
END:VEVENT
END:VCALENDAR
