BEGIN:VCALENDAR
VERSION:2.0
PRODID:-//pretix//pretix.eu//
BEGIN:VEVENT
UID:pretix-simplysecure-hrcd-754488@pretix.eu
DTSTART:20210325T220000Z
DTEND:20210325T233000Z
DESCRIPTION:Tickets: https://pretix.eu/simplysecure/hrcd/754488/\nOrganizer
 : Simply Secure
DTSTAMP:20260425T132650Z
SUMMARY:Selfcare (March #2) - HRCD Community Call
END:VEVENT
END:VCALENDAR
