BEGIN:VCALENDAR
VERSION:2.0
PRODID:-//pretix//pretix.eu//
BEGIN:VTIMEZONE
TZID:Europe/Vienna
BEGIN:STANDARD
DTSTART:20001029T040000
RRULE:FREQ=YEARLY;BYDAY=-1SU;BYMONTH=10
TZNAME:CET
TZOFFSETFROM:+0200
TZOFFSETTO:+0100
END:STANDARD
BEGIN:DAYLIGHT
DTSTART:20000326T030000
RRULE:FREQ=YEARLY;BYDAY=-1SU;BYMONTH=3
TZNAME:CEST
TZOFFSETFROM:+0100
TZOFFSETTO:+0200
END:DAYLIGHT
END:VTIMEZONE
BEGIN:VEVENT
UID:pretix-socialdancing.events-pc8ka-0@pretix.eu
DTSTART;TZID=Europe/Vienna:20260414T203000
DTEND;TZID=Europe/Vienna:20260505T213000
DESCRIPTION:Tickets: https://pretix.eu/socialdancing.events/pc8ka/\nOrganiz
 er: Social Dancing Events
DTSTAMP:20260419T132216Z
LOCATION:Bachata Con Sazon - Pilates Studio Rosen\, Walcherstraße 13/G01\,
  Vienna 1020
SUMMARY:Caramelo Con Picante 💃🏻 Dominican Lady Styling (intermediate 
 level)
END:VEVENT
END:VCALENDAR
