BEGIN:VCALENDAR
VERSION:2.0
PRODID:-//pretix//pretix.eu//
BEGIN:VEVENT
UID:pretix-socreatory-adoc--online-4010867@pretix.eu
DTSTART;VALUE=DATE:20241104
DTEND;VALUE=DATE:20241106
DESCRIPTION:Tickets: https://pretix.eu/socreatory/adoc--online/4010867/\nVe
 ranstalter: socreatory
DTSTAMP:20260421T004046Z
SUMMARY:ADOC (Online) - Stefan Zörner - Deutsch - Ausgebucht
END:VEVENT
END:VCALENDAR
