BEGIN:VCALENDAR
VERSION:2.0
PRODID:-//pretix//pretix.eu//
BEGIN:VEVENT
UID:pretix-socreatory-adoc--praesenz-3997096@pretix.eu
DTSTART;VALUE=DATE:20241014
DTEND;VALUE=DATE:20241016
DESCRIPTION:Tickets: https://pretix.eu/socreatory/adoc--praesenz/3997096/\n
 Veranstalter: socreatory
DTSTAMP:20260421T205248Z
LOCATION:Novotel München City Arnulfpark\, Arnulfstraße 57\, 80636 München
SUMMARY:ADOC (München) - Stefan Zörner - Deutsch - Ausgebucht
END:VEVENT
END:VCALENDAR
