BEGIN:VCALENDAR
VERSION:2.0
PRODID:-//pretix//pretix.eu//
BEGIN:VEVENT
UID:pretix-socreatory-agila--online-3926688@pretix.eu
DTSTART;VALUE=DATE:20241203
DTEND;VALUE=DATE:20241206
DESCRIPTION:Tickets: https://pretix.eu/socreatory/agila--online/3926688/\nV
 eranstalter: socreatory
DTSTAMP:20260419T151956Z
SUMMARY:AGILA (Online) - Stefan Toth - Deutsch - 1 Ticket verfügbar
END:VEVENT
END:VCALENDAR
