BEGIN:VCALENDAR
VERSION:2.0
PRODID:-//pretix//pretix.eu//
BEGIN:VEVENT
UID:pretix-socreatory-agila--online-3983442@pretix.eu
DTSTART;VALUE=DATE:20240827
DTEND;VALUE=DATE:20240830
DESCRIPTION:Tickets: https://pretix.eu/socreatory/agila--online/3983442/\nV
 eranstalter: socreatory
DTSTAMP:20260423T201647Z
SUMMARY:AGILA (Online) - Falk Sippach - Deutsch - Termingarantie
END:VEVENT
END:VCALENDAR
