BEGIN:VCALENDAR
VERSION:2.0
PRODID:-//pretix//pretix.eu//
BEGIN:VEVENT
UID:pretix-socreatory-agila--online-4010864@pretix.eu
DTSTART;VALUE=DATE:20241106
DTEND;VALUE=DATE:20241109
DESCRIPTION:Tickets: https://pretix.eu/socreatory/agila--online/4010864/\nV
 eranstalter: socreatory
DTSTAMP:20260420T230753Z
SUMMARY:AGILA (Online) - Falk Sippach - Deutsch - 3 Tickets verfügbar
END:VEVENT
END:VCALENDAR
