BEGIN:VCALENDAR
VERSION:2.0
PRODID:-//pretix//pretix.eu//
BEGIN:VEVENT
UID:pretix-socreatory-agila--praesenz-3997158@pretix.eu
DTSTART;VALUE=DATE:20241008
DTEND;VALUE=DATE:20241011
DESCRIPTION:Tickets: https://pretix.eu/socreatory/agila--praesenz/3997158/\
 nVeranstalter: socreatory
DTSTAMP:20260422T153213Z
LOCATION:Das Büro\, Raum für Kommunikation\, Theodor-Heuss-Straße 16\, 7
 0174 Stuttgart
SUMMARY:AGILA (Stuttgart) - Stefan Toth - Deutsch - 1 Ticket verfügbar
END:VEVENT
END:VCALENDAR
