BEGIN:VCALENDAR
VERSION:2.0
PRODID:-//pretix//pretix.eu//
BEGIN:VEVENT
UID:pretix-socreatory-agila--praesenz-4007021@pretix.eu
DTSTART;VALUE=DATE:20241112
DTEND;VALUE=DATE:20241115
DESCRIPTION:Tickets: https://pretix.eu/socreatory/agila--praesenz/4007021/\
 nVeranstalter: socreatory
DTSTAMP:20260421T004053Z
LOCATION:oose Campus\, Schomburgstr.50\, 22767 Hamburg
SUMMARY:AGILA (Hamburg) - Stefan Toth - Deutsch - Ausgebucht
END:VEVENT
END:VCALENDAR
