BEGIN:VCALENDAR
VERSION:2.0
PRODID:-//pretix//pretix.eu//
BEGIN:VEVENT
UID:pretix-socreatory-agila--praesenz-4135348@pretix.eu
DTSTART;VALUE=DATE:20241210
DTEND;VALUE=DATE:20241213
DESCRIPTION:Tickets: https://pretix.eu/socreatory/agila--praesenz/4135348/\
 nVeranstalter: socreatory
DTSTAMP:20260419T140950Z
LOCATION:Hotel Victory Therme Erding\, Thermenallee 1a\, 85435 Erding
SUMMARY:AGILA (Therme Erding) - Stefan Toth - Deutsch - 1 Ticket verfügbar
END:VEVENT
END:VCALENDAR
