BEGIN:VCALENDAR
VERSION:2.0
PRODID:-//pretix//pretix.eu//
BEGIN:VEVENT
UID:pretix-socreatory-api--online-4694241@pretix.eu
DTSTART;VALUE=DATE:20260420
DTEND;VALUE=DATE:20260422
DESCRIPTION:Tickets: https://pretix.eu/socreatory/api--online/4694241/\nVer
 anstalter: socreatory
DTSTAMP:20260424T181008Z
SUMMARY:API (Online) - Thilo Frotscher - Deutsch - Ausgebucht
END:VEVENT
END:VCALENDAR
