BEGIN:VCALENDAR
VERSION:2.0
PRODID:-//pretix//pretix.eu//
BEGIN:VEVENT
UID:pretix-socreatory-arceval--online-3997117@pretix.eu
DTSTART;VALUE=DATE:20240924
DTEND;VALUE=DATE:20240926
DESCRIPTION:Tickets: https://pretix.eu/socreatory/arceval--online/3997117/\
 nVeranstalter: socreatory
DTSTAMP:20260422T163311Z
SUMMARY:ARCEVAL (Online) - Stefan Toth - Deutsch - 1 Ticket verfügbar
END:VEVENT
END:VCALENDAR
